BEGIN:VCALENDAR
VERSION:2.0
PRODID:-//Diocese of Kottar - ECPv5.13.0//NONSGML v1.0//EN
CALSCALE:GREGORIAN
METHOD:PUBLISH
X-WR-CALNAME:Diocese of Kottar
X-ORIGINAL-URL:https://www.kottardiocese.org
X-WR-CALDESC:Events for Diocese of Kottar
REFRESH-INTERVAL;VALUE=DURATION:PT1H
X-Robots-Tag:noindex
X-PUBLISHED-TTL:PT1H
BEGIN:VTIMEZONE
TZID:Asia/Kolkata
BEGIN:STANDARD
TZOFFSETFROM:+0530
TZOFFSETTO:+0530
TZNAME:IST
DTSTART:20210101T000000
END:STANDARD
END:VTIMEZONE
BEGIN:VEVENT
DTSTART;TZID=Asia/Kolkata:20220208T103000
DTEND;TZID=Asia/Kolkata:20220208T160000
DTSTAMP:20260420T111219
CREATED:20220205T114656Z
LAST-MODIFIED:20220205T114656Z
UID:1868-1644316200-1644336000@www.kottardiocese.org
SUMMARY:PRIESTS' RECOLLECTION & GENERAL BODY MEETING
DESCRIPTION:
URL:https://www.kottardiocese.org/event/priests-recollection-general-body-meeting/
LOCATION:BISHOP’S HOUSE\, NAGERCOIL\, tamilnadu\, 629001\, India
END:VEVENT
BEGIN:VEVENT
DTSTART;TZID=Asia/Kolkata:20220206T143000
DTEND;TZID=Asia/Kolkata:20220206T183000
DTSTAMP:20260420T111219
CREATED:20220205T114414Z
LAST-MODIFIED:20220205T114414Z
UID:1866-1644157800-1644172200@www.kottardiocese.org
SUMMARY:THE DAY OF CONSECRATED
DESCRIPTION:
URL:https://www.kottardiocese.org/event/the-day-of-consecrated/
END:VEVENT
BEGIN:VEVENT
DTSTART;TZID=Asia/Kolkata:20220204T110000
DTEND;TZID=Asia/Kolkata:20220204T190000
DTSTAMP:20260420T111219
CREATED:20220205T113037Z
LAST-MODIFIED:20220205T114109Z
UID:1862-1643972400-1644001200@www.kottardiocese.org
SUMMARY:SENATE & CONSULT MEETINGS
DESCRIPTION:
URL:https://www.kottardiocese.org/event/senate-consult-meetings/
LOCATION:BISHOP’S HOUSE\, NAGERCOIL\, tamilnadu\, 629001\, India
END:VEVENT
BEGIN:VEVENT
DTSTART;VALUE=DATE:20211124
DTEND;VALUE=DATE:20211204
DTSTAMP:20260420T111219
CREATED:20201121T094734Z
LAST-MODIFIED:20210903T120706Z
UID:855-1637712000-1638575999@www.kottardiocese.org
SUMMARY:Cathedral Feast
DESCRIPTION:Feast of Saint Francis Xavier
URL:https://www.kottardiocese.org/event/cathedral-feast/
LOCATION:Cathedral of Saint Francis Xavier\, Kottar\, Nagercoil\, Tamilnadu\, 629001\, India
CATEGORIES:Diocese
ATTACH;FMTTYPE=image/jpeg:https://www.kottardiocese.org/wp-content/uploads/2020/07/IMG_6818-copy-scaled.jpg
END:VEVENT
BEGIN:VEVENT
DTSTART;TZID=Asia/Kolkata:20211024T200000
DTEND;TZID=Asia/Kolkata:20211029T130000
DTSTAMP:20260420T111219
CREATED:20210903T120542Z
LAST-MODIFIED:20210903T120849Z
UID:1179-1635105600-1635512400@www.kottardiocese.org
SUMMARY:Annual Clergy Retreat - Batch Two
DESCRIPTION:
URL:https://www.kottardiocese.org/event/annual-clergy-retreat-batch-two/
LOCATION:BISHOP’S HOUSE\, NAGERCOIL\, tamilnadu\, 629001\, India
END:VEVENT
BEGIN:VEVENT
DTSTART;TZID=Asia/Kolkata:20211017T200000
DTEND;TZID=Asia/Kolkata:20211022T130000
DTSTAMP:20260420T111219
CREATED:20210903T120136Z
LAST-MODIFIED:20210903T120600Z
UID:1171-1634500800-1634907600@www.kottardiocese.org
SUMMARY:Annual Clergy Retreat - Batch One
DESCRIPTION:
URL:https://www.kottardiocese.org/event/annual-clergy-retreat/
LOCATION:BISHOP’S HOUSE\, NAGERCOIL\, tamilnadu\, 629001\, India
END:VEVENT
END:VCALENDAR