BEGIN:VCALENDAR
VERSION:2.0
PRODID:-//Diocese of Kottar - ECPv5.13.0//NONSGML v1.0//EN
CALSCALE:GREGORIAN
METHOD:PUBLISH
X-WR-CALNAME:Diocese of Kottar
X-ORIGINAL-URL:https://www.kottardiocese.org
X-WR-CALDESC:Events for Diocese of Kottar
REFRESH-INTERVAL;VALUE=DURATION:PT1H
X-Robots-Tag:noindex
X-PUBLISHED-TTL:PT1H
BEGIN:VTIMEZONE
TZID:Asia/Kolkata
BEGIN:STANDARD
TZOFFSETFROM:+0530
TZOFFSETTO:+0530
TZNAME:IST
DTSTART:20210101T000000
END:STANDARD
END:VTIMEZONE
BEGIN:VEVENT
DTSTART;TZID=Asia/Kolkata:20211031T170000
DTEND;TZID=Asia/Kolkata:20220515T170000
DTSTAMP:20260420T092314
CREATED:20211122T060118Z
LAST-MODIFIED:20211124T053624Z
UID:1706-1635699600-1652634000@www.kottardiocese.org
SUMMARY:SYNOD 2021 - 2023
DESCRIPTION:Launching of the diocesan phase – 31.10.2021
URL:https://www.kottardiocese.org/event/conclusion-ceremony-of-diocesan-synod/
LOCATION:BISHOP’S HOUSE\, NAGERCOIL\, tamilnadu\, 629001\, India
END:VEVENT
BEGIN:VEVENT
DTSTART;TZID=Asia/Kolkata:20220411T103000
DTEND;TZID=Asia/Kolkata:20220411T130000
DTSTAMP:20260420T092314
CREATED:20220404T064011Z
LAST-MODIFIED:20220404T064808Z
UID:1941-1649673000-1649682000@www.kottardiocese.org
SUMMARY:PRIESTS' RECOLLECTION
DESCRIPTION:
URL:https://www.kottardiocese.org/event/priests-recolliction/
LOCATION:Bishop Arokiasamy Animation Centre\, Bishop’s House Campus
END:VEVENT
BEGIN:VEVENT
DTSTART;TZID=Asia/Kolkata:20220411T173000
DTEND;TZID=Asia/Kolkata:20220411T173000
DTSTAMP:20260420T092314
CREATED:20220404T063355Z
LAST-MODIFIED:20220404T064919Z
UID:1934-1649698200-1649698200@www.kottardiocese.org
SUMMARY:CHRISM MASS
DESCRIPTION:
URL:https://www.kottardiocese.org/event/priests-recollection/
LOCATION:Sacred Heart Church\, Nagercoil
END:VEVENT
BEGIN:VEVENT
DTSTART;TZID=Asia/Kolkata:20220424T173000
DTEND;TZID=Asia/Kolkata:20220424T173000
DTSTAMP:20260420T092314
CREATED:20220404T070821Z
LAST-MODIFIED:20220404T070821Z
UID:1954-1650821400-1650821400@www.kottardiocese.org
SUMMARY:PRIESTLY ORDINATION
DESCRIPTION:
URL:https://www.kottardiocese.org/event/priestly-ordination/
LOCATION:Cathedral of Saint Francis Xavier\, Kottar\, Nagercoil\, Tamilnadu\, 629001\, India
END:VEVENT
BEGIN:VEVENT
DTSTART;TZID=Asia/Kolkata:20220515T100000
DTEND;TZID=Asia/Kolkata:20220515T130000
DTSTAMP:20260420T092314
CREATED:20211122T055251Z
LAST-MODIFIED:20211124T054015Z
UID:1702-1652608800-1652619600@www.kottardiocese.org
SUMMARY:CANONISATION OF MARTYR DEVASAHAYAM
DESCRIPTION:
URL:https://www.kottardiocese.org/event/canonisation-of-martyr-devasahayam/
LOCATION:BISHOP’S HOUSE\, NAGERCOIL\, tamilnadu\, 629001\, India
END:VEVENT
BEGIN:VEVENT
DTSTART;TZID=Asia/Kolkata:20220822T080000
DTEND;TZID=Asia/Kolkata:20220824T170000
DTSTAMP:20260420T092314
CREATED:20220719T105107Z
LAST-MODIFIED:20220719T105107Z
UID:2279-1661155200-1661360400@www.kottardiocese.org
SUMMARY:PRIEST'S LIVE-IN
DESCRIPTION:
URL:https://www.kottardiocese.org/event/priests-live-in/
LOCATION:MADURAI
END:VEVENT
BEGIN:VEVENT
DTSTART;TZID=Asia/Kolkata:20221113T180000
DTEND;TZID=Asia/Kolkata:20221118T140000
DTSTAMP:20260420T092314
CREATED:20220719T104709Z
LAST-MODIFIED:20220805T091509Z
UID:2275-1668362400-1668780000@www.kottardiocese.org
SUMMARY:ANNUAL RETREAT 2022\, BATCH I
DESCRIPTION:
URL:https://www.kottardiocese.org/event/annual-retreat-2022-batch-i/
LOCATION:BISHOP’S HOUSE\, NAGERCOIL\, tamilnadu\, 629001\, India
END:VEVENT
BEGIN:VEVENT
DTSTART;TZID=Asia/Kolkata:20221120T180000
DTEND;TZID=Asia/Kolkata:20221125T140000
DTSTAMP:20260420T092314
CREATED:20220719T104852Z
LAST-MODIFIED:20220805T091710Z
UID:2277-1668967200-1669384800@www.kottardiocese.org
SUMMARY:ANNUAL RETREAT 2022\, BATCH II
DESCRIPTION:
URL:https://www.kottardiocese.org/event/annual-retreat-2022-batch-ii/
LOCATION:BISHOP’S HOUSE\, NAGERCOIL\, tamilnadu\, 629001\, India
END:VEVENT
END:VCALENDAR